Workbook
Name \a: #REF!
Name \b: #REF!
Name \c: #REF!
Name \d: #REF!
Name \i: #REF!
Name \p: #REF!
Name \s: #REF!
Name \w: #REF!
Name \x: #REF!
Name \z: #REF!
Name ___________XP231: #REF!
Name ___XP231: #REF!
Name __xlfn_AGGREGATE: #N/A
Name __XP231: #REF!
Name _gat6: #REF!
Name _R: #REF!
Name _shs007: '[2]ANALISIS DE PRECIOS UNITARIOS'!#REF!
Name _XP231: #REF!
Name A: #REF!
Name A_IMPRESIÓN_IM: #REF!
Name A89.26: '[3]APU''s'!#REF!
Name accesorios: #REF!
Name ALBAÑILERÍA: #REF!
Name AREA: #REF!
Name Área_de_impressão1: #REF!
Name Área_de_impressão2: #REF!
Name Armico: #REF!
Name ASPERSION_1.1: #REF!
Name ASTM_1.2: #REF!
Name ASTM_2.2: #REF!
Name B: #REF!
Name BASE: #REF!
Name basedetalle: OFFSET(#REF!,0,0,COUNT(OFFSET(#REF!,0,0,9999)),12)
Name baseequipos: OFFSET(#REF!,0,0,COUNT(OFFSET(#REF!,0,0,9999)),7)
Name basemano: OFFSET(#REF!,0,0,COUNT(OFFSET(#REF!,0,0,9999)),7)
Name BASEMATERIALES: OFFSET(#REF!,0,0,COUNT(OFFSET(#REF!,0,0,9999)),4)
Name basetransporte: OFFSET([4]Transporte!$A$1,0,0,COUNT(OFFSET([4]Transporte!$A$1,0,0,9999)),4)
Name bbb: #REF!
Name bbvfgty: #REF!
Name BuiltIn_Print_Area: #REF!
Name BuiltIn_Print_Area___0: #REF!
Name BuiltIn_Print_Area___0___0: #REF!
Name BuiltIn_Print_Area___0___0___0: #REF!
Name BuiltIn_Print_Area___0___0___0___0: #REF!
Name BuiltIn_Print_Area___0___0___0___0___0: #REF!
Name BuiltIn_Print_Area___0___0___0___1: #REF!
Name BuiltIn_Print_Area___0___0___0___10: #REF!
Name BuiltIn_Print_Area___0___0___0___12: #REF!
Name BuiltIn_Print_Area___0___0___0___2: #REF!
Name BuiltIn_Print_Area___0___0___0___3: #REF!
Name BuiltIn_Print_Area___0___0___0___7: #REF!
Name BuiltIn_Print_Area___0___0___0___9: #REF!
Name BuiltIn_Print_Area___0___0___1: #REF!
Name BuiltIn_Print_Area___0___0___10: #REF!
Name BuiltIn_Print_Area___0___0___12: #REF!
Name BuiltIn_Print_Area___0___0___2: #REF!
Name BuiltIn_Print_Area___0___0___3: #REF!
Name BuiltIn_Print_Area___0___0___6: #REF!
Name BuiltIn_Print_Area___0___0___7: #REF!
Name BuiltIn_Print_Area___0___0___9: #REF!

Sheet APUS2 (1001 - 1053)
B2: PROYECTO: | C2: ='[1]PRESUPUESTO REFERENCIAL'!$B$6 -> CONSTRUCCIÓN DEL MALECÓN EN LA PARROQUIA URBANA SATÉLITE LA AURORA
B3: DAULE - ECUADOR
C5: NOMBRE DEL PROPONENTE: | D5: GOBIERNO AUTÓNOMO DESCENTRALIZADO ILUSTRE MUNICIPALIDAD DE DAULE
C6: ENTIDAD DEL PROCEDIMIENTO: | D6: OBRAS PÚBLICAS - MUNICIPIO DE DAULE
B8: ANÁLISIS DE PRECIOS UNITARIOS
I9: (unidad/horas) | K9: DETERMINACION DEL VALOR AGREGADO ECUATORIANO (V.A.E.) DEL RUBRO
B10: RUBRO: | C10: =+'[1]PRESUPUESTO REFERENCIAL'!B1123 -> 1001 | E10: UNIDAD: | F10: =+'[1]PRESUPUESTO REFERENCIAL'!D1123 -> u | H10: RENDIM. R= | I10: 3.0001
B11: DETALLE: | C11: =+'[1]PRESUPUESTO REFERENCIAL'!C1123 -> TRANSFORMADOR 1F 10 KVA TIPO AUTO PROTEGIDO 7.9KV/120-240 V
B12: M.- EQUIPOS | K12: PESO RELATIVO ELEMENTO (%) | L12: CPC ELEMENTO | M12: NP/EP/ND | N12: VALOR AGREGADO ECUATORIANO - VAE (%) | O12: VAE (%) ELEMENTO
B13: DESCRIPCIÓN DE EQUIPO | E13: CANTIDAD | F13: TARIFA | G13: COSTO HORA | H13: RENDIMIENTO | I13: COSTO UNITARIO | P13: =ROW(A14)+65 -> 79
A14: E1 | B14: =INDEX([1]EQUIPOS!$A$3:$I$326,MATCH('APUS2 (1001 - 1053)'!A14,[1]EQUIPOS!$A$3:$A$326,0),2) -> HERRAMIENTA MENOR (5% MO) | F14: 0.05 | I14: =I43*5% -> 2.7030901 | K14: =((I14*100%)/$I$79) -> 0.0023033066 | L14: =INDEX([1]EQUIPOS!$A$3:$I$326,MATCH('APUS2 (1001 - 1053)'!A14,[1]EQUIPOS!$A$3:$A$326,0),6) -> 4292100117 | M14: =INDEX([1]EQUIPOS!$A$3:$I$326,MATCH('APUS2 (1001 - 1053)'!A14,[1]EQUIPOS!$A$3:$A$326,0),7) -> NP | N14: =INDEX([1]EQUIPOS!$A$3:$I$326,MATCH('APUS2 (1001 - 1053)'!A14,[1]EQUIPOS!$A$3:$A$326,0),8) -> 0 | O14: =INDEX([1]EQUIPOS!$A$3:$I$326,MATCH('APUS2 (1001 - 1053)'!A14,[1]EQUIPOS!$A$3:$A$326,0),9) -> 0 | P14: =+P13+1 -> 80 | Q14: =IF($A14=0," ",$P13) -> 79
A15: E36 | B15: =INDEX([1]EQUIPOS!$A$3:$I$326,MATCH('APUS2 (1001 - 1053)'!A15,[1]EQUIPOS!$A$3:$A$326,0),2) -> GRUA DE 20 Tn | E15: 1 | F15: =INDEX([1]EQUIPOS!$A$3:$I$326,MATCH('APUS2 (1001 - 1053)'!A15,[1]EQUIPOS!$A$3:$A$326,0),5) -> 45 | G15: =+E15*F15 -> 45 | H15: =I10 -> 3.0001 | I15: =G15*H15 -> 135.0045 | K15: =((I15*100%)/$I$79) -> 0.11503751 | L15: =INDEX([1]EQUIPOS!$A$3:$I$326,MATCH('APUS2 (1001 - 1053)'!A15,[1]EQUIPOS!$A$3:$A$326,0),6) -> 435300212 | M15: =INDEX([1]EQUIPOS!$A$3:$I$326,MATCH('APUS2 (1001 - 1053)'!A15,[1]EQUIPOS!$A$3:$A$326,0),7) -> NP | N15: =INDEX([1]EQUIPOS!$A$3:$I$326,MATCH('APUS2 (1001 - 1053)'!A15,[1]EQUIPOS!$A$3:$A$326,0),8) -> 0 | O15: =INDEX([1]EQUIPOS!$A$3:$I$326,MATCH('APUS2 (1001 - 1053)'!A15,[1]EQUIPOS!$A$3:$A$326,0),9) -> 0 | P15: =+P14+1 -> 81 | Q15: =+$Q14 -> 79
P16: =+P15+1 -> 82
P17: =+P16+1 -> 83
P18: =+P17+1 -> 84
P19: =+P18+1 -> 85
P20: =+P19+1 -> 86
P21: =+P20+1 -> 87
P22: =+P21+1 -> 88
P23: =+P22+1 -> 89
P24: =+P23+1 -> 90
P25: =+P24+1 -> 91
P26: =+P25+1 -> 92
H27: PARCIAL (M) = | I27: =SUM(I14:I26) -> 137.70759 | K27: =SUM(K14:K26) -> 0.11734082 | O27: =SUM(O14:O26) -> 0 | P27: =+P26+1 -> 93
B28: N.- MANO DE OBRA | K28: PESO RELATIVO ELEMENTO (%) | L28: CPC ELEMENTO | M28: NP/EP/ND | N28: VALOR AGREGADO ECUATORIANO - VAE (%) | O28: VAE (%) ELEMENTO | P28: =+P27+1 -> 94
B29: DESCRIPCIÓN DE MANO DE OBRA - (CATEG.) | E29: CANTIDAD | F29: JORNAL / H.R. | G29: COSTO HORA | H29: RENDIMIENTO | I29: COSTO UNITARIO | P29: =+P28+1 -> 95
A30: MO17 | B30: =INDEX([1]SUELDOS!$B$3:$O$294,MATCH('APUS2 (1001 - 1053)'!A30,[1]SUELDOS!$B$3:$B$294,0),2) -> ELECTRICISTA O INSTALADOR DE REVESTIMIENTO EN GENERAL | E30: 1 | F30: =INDEX([1]SUELDOS!$B$3:$O$294,MATCH('APUS2 (1001 - 1053)'!A30,[1]SUELDOS!$B$3:$B$294,0),10) -> 4.28 | G30: =+E30*F30 -> 4.28 | H30: =I10 -> 3.0001 | I30: =G30*H30 -> 12.840428 | K30: =((I30*100%)/$I$79) -> 0.010941345 | L30: =INDEX([1]SUELDOS!$B$3:$O$294,MATCH('APUS2 (1001 - 1053)'!A30,[1]SUELDOS!$B$3:$B$294,0),11) -> 546110012 | M30: =INDEX([1]SUELDOS!$B$3:$O$294,MATCH('APUS2 (1001 - 1053)'!A30,[1]SUELDOS!$B$3:$B$294,0),12) -> NP | N30: =INDEX([1]SUELDOS!$B$3:$O$294,MATCH('APUS2 (1001 - 1053)'!A30,[1]SUELDOS!$B$3:$B$294,0),13) -> 0 | O30: =INDEX([1]SUELDOS!$B$3:$O$294,MATCH('APUS2 (1001 - 1053)'!A30,[1]SUELDOS!$B$3:$B$294,0),14) -> 0 | P30: =+P29+1 -> 96 | Q30: =+Q14 -> 79
A31: MO33 | B31: =INDEX([1]SUELDOS!$B$3:$O$294,MATCH('APUS2 (1001 - 1053)'!A31,[1]SUELDOS!$B$3:$B$294,0),2) -> MAESTRO ELECTRICO/LINIERO/SUBESTACIONES | E31: 1 | F31: =INDEX([1]SUELDOS!$B$3:$O$294,MATCH('APUS2 (1001 - 1053)'!A31,[1]SUELDOS!$B$3:$B$294,0),10) -> 4.75 | G31: =+E31*F31 -> 4.75 | H31: =I10 -> 3.0001 | I31: =G31*H31 -> 14.250475 | K31: =((I31*100%)/$I$79) -> 0.012142848 | L31: =INDEX([1]SUELDOS!$B$3:$O$294,MATCH('APUS2 (1001 - 1053)'!A31,[1]SUELDOS!$B$3:$B$294,0),11) -> 851230012 | M31: =INDEX([1]SUELDOS!$B$3:$O$294,MATCH('APUS2 (1001 - 1053)'!A31,[1]SUELDOS!$B$3:$B$294,0),12) -> NP | N31: =INDEX([1]SUELDOS!$B$3:$O$294,MATCH('APUS2 (1001 - 1053)'!A31,[1]SUELDOS!$B$3:$B$294,0),13) -> 0 | O31: =INDEX([1]SUELDOS!$B$3:$O$294,MATCH('APUS2 (1001 - 1053)'!A31,[1]SUELDOS!$B$3:$B$294,0),14) -> 0 | P31: =+P30+1 -> 97
A32: MO37 | B32: =INDEX([1]SUELDOS!$B$3:$O$294,MATCH('APUS2 (1001 - 1053)'!A32,[1]SUELDOS!$B$3:$B$294,0),2) -> SUPERVISOR ELECTRICO GENERAL / SUPERVISOR SANITARIO GENERAL | E32: 1 | F32: =INDEX([1]SUELDOS!$B$3:$O$294,MATCH('APUS2 (1001 - 1053)'!A32,[1]SUELDOS!$B$3:$B$294,0),10) -> 4.76 | G32: =+E32*F32 -> 4.76 | H32: =I10 -> 3.0001 | I32: =G32*H32 -> 14.280476 | K32: =((I32*100%)/$I$79) -> 0.012168412 | L32: =INDEX([1]SUELDOS!$B$3:$O$294,MATCH('APUS2 (1001 - 1053)'!A32,[1]SUELDOS!$B$3:$B$294,0),11) -> 851230012 | M32: =INDEX([1]SUELDOS!$B$3:$O$294,MATCH('APUS2 (1001 - 1053)'!A32,[1]SUELDOS!$B$3:$B$294,0),12) -> NP | N32: =INDEX([1]SUELDOS!$B$3:$O$294,MATCH('APUS2 (1001 - 1053)'!A32,[1]SUELDOS!$B$3:$B$294,0),13) -> 0 | O32: =INDEX([1]SUELDOS!$B$3:$O$294,MATCH('APUS2 (1001 - 1053)'!A32,[1]SUELDOS!$B$3:$B$294,0),14) -> 0 | P32: =+P31+1 -> 98
A33: MO1 | B33: =INDEX([1]SUELDOS!$B$3:$O$294,MATCH('APUS2 (1001 - 1053)'!A33,[1]SUELDOS!$B$3:$B$294,0),2) -> PEON | E33: 1 | F33: =INDEX([1]SUELDOS!$B$3:$O$294,MATCH('APUS2 (1001 - 1053)'!A33,[1]SUELDOS!$B$3:$B$294,0),10) -> 4.23 | G33: =+E33*F33 -> 4.23 | H33: =I10 -> 3.0001 | I33: =G33*H33 -> 12.690423 | K33: =((I33*100%)/$I$79) -> 0.010813526 | L33: =INDEX([1]SUELDOS!$B$3:$O$294,MATCH('APUS2 (1001 - 1053)'!A33,[1]SUELDOS!$B$3:$B$294,0),11) -> 851230012 | M33: =INDEX([1]SUELDOS!$B$3:$O$294,MATCH('APUS2 (1001 - 1053)'!A33,[1]SUELDOS!$B$3:$B$294,0),12) -> NP | N33: =INDEX([1]SUELDOS!$B$3:$O$294,MATCH('APUS2 (1001 - 1053)'!A33,[1]SUELDOS!$B$3:$B$294,0),13) -> 0 | O33: =INDEX([1]SUELDOS!$B$3:$O$294,MATCH('APUS2 (1001 - 1053)'!A33,[1]SUELDOS!$B$3:$B$294,0),14) -> 0 | P33: =+P32+1 -> 99
P34: =+P33+1 -> 100
P35: =+P34+1 -> 101
P36: =+P35+1 -> 102
P37: =+P36+1 -> 103
P38: =+P37+1 -> 104
P39: =+P38+1 -> 105
P40: =+P39+1 -> 106
P41: =+P40+1 -> 107
P42: =+P41+1 -> 108
H43: PARCIAL (N) = | I43: =SUM(I30:I42) -> 54.061802 | K43: =SUM(K30:K42) -> 0.046066132 | O43: =SUM(O30:O42) -> 0 | P43: =+P42+1 -> 109
B44: O.- MATERIALES | K44: PESO RELATIVO ELEMENTO (%) | L44: CPC ELEMENTO | M44: NP/EP/ND | N44: VALOR AGREGADO ECUATORIANO - VAE (%) | O44: VAE (%) ELEMENTO | P44: =+P43+1 -> 110
B45: DESCRIPCIÓN DE MATERIAL | F45: UNIDAD | G45: CANTIDAD | H45: COSTO UNITARIO | I45: COSTO UNITARIO | P45: =+P44+1 -> 111
A46: M810 | B46: =INDEX('[1]MATERIAL-TRANSPORTE'!$A$3:$K$1016,MATCH('APUS2 (1001 - 1053)'!A46,'[1]MATERIAL-TRANSPORTE'!$A$3:$A$1016,0),2) -> TRANSFORMADOR 1F 10 KVA AUTO PROTEGIDO | F46: =INDEX('[1]MATERIAL-TRANSPORTE'!$A$3:$K$1016,MATCH('APUS2 (1001 - 1053)'!A46,'[1]MATERIAL-TRANSPORTE'!$A$3:$A$1016,0),6) -> u | G46: 1 | H46: =INDEX('[1]MATERIAL-TRANSPORTE'!$A$3:$K$1016,MATCH('APUS2 (1001 - 1053)'!A46,'[1]MATERIAL-TRANSPORTE'!$A$3:$A$1016,0),7) -> 900 | I46: =G46*H46 -> 900 | K46: =((I46*100%)/$I$79) -> 0.76689117 | L46: =INDEX('[1]MATERIAL-TRANSPORTE'!$A$3:$K$1016,MATCH('APUS2 (1001 - 1053)'!A46,'[1]MATERIAL-TRANSPORTE'!$A$3:$A$1016,0),8) -> 461210923 | M46: =INDEX('[1]MATERIAL-TRANSPORTE'!$A$3:$K$1016,MATCH('APUS2 (1001 - 1053)'!A46,'[1]MATERIAL-TRANSPORTE'!$A$3:$A$1016,0),9) -> NP | N46: =INDEX('[1]MATERIAL-TRANSPORTE'!$A$3:$K$1016,MATCH('APUS2 (1001 - 1053)'!A46,'[1]MATERIAL-TRANSPORTE'!$A$3:$A$1016,0),10) -> 0 | O46: =INDEX('[1]MATERIAL-TRANSPORTE'!$A$3:$K$1016,MATCH('APUS2 (1001 - 1053)'!A46,'[1]MATERIAL-TRANSPORTE'!$A$3:$A$1016,0),11) -> 0 | P46: =+P45+1 -> 112 | Q46: =+Q30 -> 79
A47: M811 | B47: =INDEX('[1]MATERIAL-TRANSPORTE'!$A$3:$K$1016,MATCH('APUS2 (1001 - 1053)'!A47,'[1]MATERIAL-TRANSPORTE'!$A$3:$A$1016,0),2) -> ABRAZADERA SIMPLE AG 3 PERNOS DE 6 1/2" | F47: =INDEX('[1]MATERIAL-TRANSPORTE'!$A$3:$K$1016,MATCH('APUS2 (1001 - 1053)'!A47,'[1]MATERIAL-TRANSPORTE'!$A$3:$A$1016,0),6) -> u | G47: 2 | H47: =INDEX('[1]MATERIAL-TRANSPORTE'!$A$3:$K$1016,MATCH('APUS2 (1001 - 1053)'!A47,'[1]MATERIAL-TRANSPORTE'!$A$3:$A$1016,0),7) -> 8.4 | I47: =G47*H47 -> 16.8 | K47: =((I47*100%)/$I$79) -> 0.014315302 | L47: =INDEX('[1]MATERIAL-TRANSPORTE'!$A$3:$K$1016,MATCH('APUS2 (1001 - 1053)'!A47,'[1]MATERIAL-TRANSPORTE'!$A$3:$A$1016,0),8) -> 429990527 | M47: =INDEX('[1]MATERIAL-TRANSPORTE'!$A$3:$K$1016,MATCH('APUS2 (1001 - 1053)'!A47,'[1]MATERIAL-TRANSPORTE'!$A$3:$A$1016,0),9) -> NP | N47: =INDEX('[1]MATERIAL-TRANSPORTE'!$A$3:$K$1016,MATCH('APUS2 (1001 - 1053)'!A47,'[1]MATERIAL-TRANSPORTE'!$A$3:$A$1016,0),10) -> 0 | O47: =INDEX('[1]MATERIAL-TRANSPORTE'!$A$3:$K$1016,MATCH('APUS2 (1001 - 1053)'!A47,'[1]MATERIAL-TRANSPORTE'!$A$3:$A$1016,0),11) -> 0 | P47: =+P46+1 -> 113
A48: M812 | B48: =INDEX('[1]MATERIAL-TRANSPORTE'!$A$3:$K$1016,MATCH('APUS2 (1001 - 1053)'!A48,'[1]MATERIAL-TRANSPORTE'!$A$3:$A$1016,0),2) -> ESTRIBO PARA DERIVACION CU SN | F48: =INDEX('[1]MATERIAL-TRANSPORTE'!$A$3:$K$1016,MATCH('APUS2 (1001 - 1053)'!A48,'[1]MATERIAL-TRANSPORTE'!$A$3:$A$1016,0),6) -> u | G48: 1 | H48: =INDEX('[1]MATERIAL-TRANSPORTE'!$A$3:$K$1016,MATCH('APUS2 (1001 - 1053)'!A48,'[1]MATERIAL-TRANSPORTE'!$A$3:$A$1016,0),7) -> 10 | I48: =G48*H48 -> 10 | K48: =((I48*100%)/$I$79) -> 0.008521013 | L48: =INDEX('[1]MATERIAL-TRANSPORTE'!$A$3:$K$1016,MATCH('APUS2 (1001 - 1053)'!A48,'[1]MATERIAL-TRANSPORTE'!$A$3:$A$1016,0),8) -> 429921715 | M48: =INDEX('[1]MATERIAL-TRANSPORTE'!$A$3:$K$1016,MATCH('APUS2 (1001 - 1053)'!A48,'[1]MATERIAL-TRANSPORTE'!$A$3:$A$1016,0),9) -> NP | N48: =INDEX('[1]MATERIAL-TRANSPORTE'!$A$3:$K$1016,MATCH('APUS2 (1001 - 1053)'!A48,'[1]MATERIAL-TRANSPORTE'!$A$3:$A$1016,0),10) -> 0 | O48: =INDEX('[1]MATERIAL-TRANSPORTE'!$A$3:$K$1016,MATCH('APUS2 (1001 - 1053)'!A48,'[1]MATERIAL-TRANSPORTE'!$A$3:$A$1016,0),11) -> 0 | P48: =+P47+1 -> 114
A49: M813 | B49: =INDEX('[1]MATERIAL-TRANSPORTE'!$A$3:$K$1016,MATCH('APUS2 (1001 - 1053)'!A49,'[1]MATERIAL-TRANSPORTE'!$A$3:$A$1016,0),2) -> GRAPA PARA LINEA EN CALIENTE | F49: =INDEX('[1]MATERIAL-TRANSPORTE'!$A$3:$K$1016,MATCH('APUS2 (1001 - 1053)'!A49,'[1]MATERIAL-TRANSPORTE'!$A$3:$A$1016,0),6) -> u | G49: 1 | H49: =INDEX('[1]MATERIAL-TRANSPORTE'!$A$3:$K$1016,MATCH('APUS2 (1001 - 1053)'!A49,'[1]MATERIAL-TRANSPORTE'!$A$3:$A$1016,0),7) -> 10 | I49: =G49*H49 -> 10 | K49: =((I49*100%)/$I$79) -> 0.008521013 | L49: =INDEX('[1]MATERIAL-TRANSPORTE'!$A$3:$K$1016,MATCH('APUS2 (1001 - 1053)'!A49,'[1]MATERIAL-TRANSPORTE'!$A$3:$A$1016,0),8) -> 42999081513 | M49: =INDEX('[1]MATERIAL-TRANSPORTE'!$A$3:$K$1016,MATCH('APUS2 (1001 - 1053)'!A49,'[1]MATERIAL-TRANSPORTE'!$A$3:$A$1016,0),9) -> NP | N49: =INDEX('[1]MATERIAL-TRANSPORTE'!$A$3:$K$1016,MATCH('APUS2 (1001 - 1053)'!A49,'[1]MATERIAL-TRANSPORTE'!$A$3:$A$1016,0),10) -> 0 | O49: =INDEX('[1]MATERIAL-TRANSPORTE'!$A$3:$K$1016,MATCH('APUS2 (1001 - 1053)'!A49,'[1]MATERIAL-TRANSPORTE'!$A$3:$A$1016,0),11) -> 0 | P49: =+P48+1 -> 115
A50: M814 | B50: =INDEX('[1]MATERIAL-TRANSPORTE'!$A$3:$K$1016,MATCH('APUS2 (1001 - 1053)'!A50,'[1]MATERIAL-TRANSPORTE'!$A$3:$A$1016,0),2) -> CONECTOR DENTADO ESTANCO 35 A 150 mm2 | F50: =INDEX('[1]MATERIAL-TRANSPORTE'!$A$3:$K$1016,MATCH('APUS2 (1001 - 1053)'!A50,'[1]MATERIAL-TRANSPORTE'!$A$3:$A$1016,0),6) -> u | G50: 3 | H50: =INDEX('[1]MATERIAL-TRANSPORTE'!$A$3:$K$1016,MATCH('APUS2 (1001 - 1053)'!A50,'[1]MATERIAL-TRANSPORTE'!$A$3:$A$1016,0),7) -> 3 | I50: =G50*H50 -> 9 | K50: =((I50*100%)/$I$79) -> 0.0076689117 | L50: =INDEX('[1]MATERIAL-TRANSPORTE'!$A$3:$K$1016,MATCH('APUS2 (1001 - 1053)'!A50,'[1]MATERIAL-TRANSPORTE'!$A$3:$A$1016,0),8) -> 462200911 | M50: =INDEX('[1]MATERIAL-TRANSPORTE'!$A$3:$K$1016,MATCH('APUS2 (1001 - 1053)'!A50,'[1]MATERIAL-TRANSPORTE'!$A$3:$A$1016,0),9) -> NP | N50: =INDEX('[1]MATERIAL-TRANSPORTE'!$A$3:$K$1016,MATCH('APUS2 (1001 - 1053)'!A50,'[1]MATERIAL-TRANSPORTE'!$A$3:$A$1016,0),10) -> 0 | O50: =INDEX('[1]MATERIAL-TRANSPORTE'!$A$3:$K$1016,MATCH('APUS2 (1001 - 1053)'!A50,'[1]MATERIAL-TRANSPORTE'!$A$3:$A$1016,0),11) -> 0 | P50: =+P49+1 -> 116
A51: M642 | B51: =INDEX('[1]MATERIAL-TRANSPORTE'!$A$3:$K$1016,MATCH('APUS2 (1001 - 1053)'!A51,'[1]MATERIAL-TRANSPORTE'!$A$3:$A$1016,0),2) -> CONDUCTOR DESNUDO SOLIDO PARA ATADURAS NO 4 AWG | F51: =INDEX('[1]MATERIAL-TRANSPORTE'!$A$3:$K$1016,MATCH('APUS2 (1001 - 1053)'!A51,'[1]MATERIAL-TRANSPORTE'!$A$3:$A$1016,0),6) -> u | G51: 3 | H51: =INDEX('[1]MATERIAL-TRANSPORTE'!$A$3:$K$1016,MATCH('APUS2 (1001 - 1053)'!A51,'[1]MATERIAL-TRANSPORTE'!$A$3:$A$1016,0),7) -> 4 | I51: =G51*H51 -> 12 | K51: =((I51*100%)/$I$79) -> 0.010225216 | L51: =INDEX('[1]MATERIAL-TRANSPORTE'!$A$3:$K$1016,MATCH('APUS2 (1001 - 1053)'!A51,'[1]MATERIAL-TRANSPORTE'!$A$3:$A$1016,0),8) -> 429420013 | M51: =INDEX('[1]MATERIAL-TRANSPORTE'!$A$3:$K$1016,MATCH('APUS2 (1001 - 1053)'!A51,'[1]MATERIAL-TRANSPORTE'!$A$3:$A$1016,0),9) -> NP | N51: =INDEX('[1]MATERIAL-TRANSPORTE'!$A$3:$K$1016,MATCH('APUS2 (1001 - 1053)'!A51,'[1]MATERIAL-TRANSPORTE'!$A$3:$A$1016,0),10) -> 0 | O51: =INDEX('[1]MATERIAL-TRANSPORTE'!$A$3:$K$1016,MATCH('APUS2 (1001 - 1053)'!A51,'[1]MATERIAL-TRANSPORTE'!$A$3:$A$1016,0),11) -> 0 | P51: =+P50+1 -> 117
A52: M816 | B52: =INDEX('[1]MATERIAL-TRANSPORTE'!$A$3:$K$1016,MATCH('APUS2 (1001 - 1053)'!A52,'[1]MATERIAL-TRANSPORTE'!$A$3:$A$1016,0),2) -> CONDUCTOR # 4 AWG THHN CU | F52: =INDEX('[1]MATERIAL-TRANSPORTE'!$A$3:$K$1016,MATCH('APUS2 (1001 - 1053)'!A52,'[1]MATERIAL-TRANSPORTE'!$A$3:$A$1016,0),6) -> u | G52: 6 | H52: =INDEX('[1]MATERIAL-TRANSPORTE'!$A$3:$K$1016,MATCH('APUS2 (1001 - 1053)'!A52,'[1]MATERIAL-TRANSPORTE'!$A$3:$A$1016,0),7) -> 4 | I52: =G52*H52 -> 24 | K52: =((I52*100%)/$I$79) -> 0.020450431 | L52: =INDEX('[1]MATERIAL-TRANSPORTE'!$A$3:$K$1016,MATCH('APUS2 (1001 - 1053)'!A52,'[1]MATERIAL-TRANSPORTE'!$A$3:$A$1016,0),8) -> 429420013 | M52: =INDEX('[1]MATERIAL-TRANSPORTE'!$A$3:$K$1016,MATCH('APUS2 (1001 - 1053)'!A52,'[1]MATERIAL-TRANSPORTE'!$A$3:$A$1016,0),9) -> NP | N52: =INDEX('[1]MATERIAL-TRANSPORTE'!$A$3:$K$1016,MATCH('APUS2 (1001 - 1053)'!A52,'[1]MATERIAL-TRANSPORTE'!$A$3:$A$1016,0),10) -> 0 | O52: =INDEX('[1]MATERIAL-TRANSPORTE'!$A$3:$K$1016,MATCH('APUS2 (1001 - 1053)'!A52,'[1]MATERIAL-TRANSPORTE'!$A$3:$A$1016,0),11) -> 0 | P52: =+P51+1 -> 118
P53: =+P52+1 -> 119
P54: =+P53+1 -> 120
P55: =+P54+1 -> 121
P56: =+P55+1 -> 122
P57: =+P56+1 -> 123
P58: =+P57+1 -> 124
P59: =+P58+1 -> 125
P60: =+P59+1 -> 126
P61: =+P60+1 -> 127
P62: =+P61+1 -> 128
P63: =+P62+1 -> 129
P64: =+P63+1 -> 130
... P71: =+P70+1 -> 137
H72: PARCIAL (O) = | I72: =SUM(I46:I71) -> 981.8 | K72: =SUM(K46:K71) -> 0.83659305 | O72: =SUM(O46:O71) -> 0 | P72: =+P71+1 -> 138
B73: P.- TRANSPORTE | K73: PESO RELATIVO ELEMENTO (%) | L73: CPC ELEMENTO | M73: NP/EP/ND | N73: VALOR AGREGADO ECUATORIANO - VAE (%) | O73: VAE (%) ELEMENTO | P73: =+P72+1 -> 139
B74: DESCRIPCIÓN DE TRANSPORTE | F74: UNIDAD | G74: CANTIDAD | H74: COSTO UNITARIO | I74: COSTO UNITARIO | P74: =+P73+1 -> 140
P75: =+P74+1 -> 141 | Q75: =+Q46 -> 79
F76: 0 | H76: 0 | I76: 0 | N76: 0 | O76: 0 | P76: =+P75+1 -> 142
H77: PARCIAL (P) = | I77: =SUM(I75:I76) -> 0 | K77: =SUM(K75:K76) -> 0 | O77: =SUM(O75:O76) -> 0 | P77: =+P76+1 -> 143
P78: =+P77+1 -> 144
E79: TOTAL COSTOS DIRECTOS X=(M+N+O+P) | I79: =I27+I43+I72+I77 -> 1173.5694 | P79: =+P78+1 -> 145
E80: INDIRECTOS Y UTILIDADES | H80: 0.2 | I80: =I79*H80 -> 234.71388 | P80: =+P79+1 -> 146
E81: OTROS INDIRECTOS | H81: 0 | I81: 0 | K81: =+K27+K43+K72+K77 -> 1 | O81: =+O27+O43+O72+O77 -> 0 | P81: =+P80+1 -> 147
E82: COSTO TOTAL DEL RUBRO | I82: =+I79+I80 -> 1408.2833 | K82: S PRI= | O82: VAE RUBRO | P82: =+P81+1 -> 148
E83: VALOR PROPUESTO | I83: =ROUND(I82,2) -> 1408.28 | P83: =+P82+1 -> 149
P84: =+P83+1 -> 150
P85: =+P84+1 -> 151
B87: PROYECTO: | C87: ='[1]PRESUPUESTO REFERENCIAL'!$B$6 -> CONSTRUCCIÓN DEL MALECÓN EN LA PARROQUIA URBANA SATÉLITE LA AURORA
B88: DAULE - ECUADOR
C90: NOMBRE DEL PROPONENTE: | D90: GOBIERNO AUTÓNOMO DESCENTRALIZADO ILUSTRE MUNICIPALIDAD DE DAULE
C91: ENTIDAD DEL PROCEDIMIENTO: | D91: OBRAS PÚBLICAS - MUNICIPIO DE DAULE
B93: ANÁLISIS DE PRECIOS UNITARIOS
I94: (unidad/horas) | K94: DETERMINACION DEL VALOR AGREGADO ECUATORIANO (V.A.E.) DEL RUBRO
B95: RUBRO: | C95: =+'[1]PRESUPUESTO REFERENCIAL'!B1124 -> 1002 | E95: UNIDAD: | F95: =+'[1]PRESUPUESTO REFERENCIAL'!D1124 -> u | H95: RENDIM. R= | I95: 3
B96: DETALLE: | C96: =+'[1]PRESUPUESTO REFERENCIAL'!C1124 -> DUCTERIA METALICA RIGIDA 2" PARA BAJA TENSION
B97: M.- EQUIPOS | K97: PESO RELATIVO ELEMENTO (%) | L97: CPC ELEMENTO | M97: NP/EP/ND | N97: VALOR AGREGADO ECUATORIANO - VAE (%) | O97: VAE (%) ELEMENTO
B98: DESCRIPCIÓN DE EQUIPO | E98: CANTIDAD | F98: TARIFA | G98: COSTO HORA | H98: RENDIMIENTO | I98: COSTO UNITARIO | P98: =ROW(A99)+65 -> 164
A99: E1 | B99: =INDEX([1]EQUIPOS!$A$3:$I$326,MATCH('APUS2 (1001 - 1053)'!A99,[1]EQUIPOS!$A$3:$A$326,0),2) -> HERRAMIENTA MENOR (5% MO) | F99: 0.05 | I99: =I128*5% -> 2.703 | K99: =((I99*100%)/$I$164) -> 0.011926771 | L99: =INDEX([1]EQUIPOS!$A$3:$I$326,MATCH('APUS2 (1001 - 1053)'!A99,[1]EQUIPOS!$A$3:$A$326,0),6) -> 4292100117 | M99: =INDEX([1]EQUIPOS!$A$3:$I$326,MATCH('APUS2 (1001 - 1053)'!A99,[1]EQUIPOS!$A$3:$A$326,0),7) -> NP | N99: =INDEX([1]EQUIPOS!$A$3:$I$326,MATCH('APUS2 (1001 - 1053)'!A99,[1]EQUIPOS!$A$3:$A$326,0),8) -> 0 | O99: =INDEX([1]EQUIPOS!$A$3:$I$326,MATCH('APUS2 (1001 - 1053)'!A99,[1]EQUIPOS!$A$3:$A$326,0),9) -> 0 | P99: =+P98+1 -> 165 | Q99: =IF($A99=0," ",$P98) -> 164
P100: =+P99+1 -> 166 | Q100: =+$Q99 -> 164
P101: =+P100+1 -> 167
P102: =+P101+1 -> 168
P103: =+P102+1 -> 169
P104: =+P103+1 -> 170
P105: =+P104+1 -> 171
P106: =+P105+1 -> 172
P107: =+P106+1 -> 173
P108: =+P107+1 -> 174
P109: =+P108+1 -> 175
P110: =+P109+1 -> 176
P111: =+P110+1 -> 177
H112: PARCIAL (M) = | I112: =SUM(I99:I111) -> 2.703 | K112: =SUM(K99:K111) -> 0.011926771 | O112: =SUM(O99:O111) -> 0 | P112: =+P111+1 -> 178
...
