Workbook
Name \a: #REF!
Name \b: #REF!
Name \c: #REF!
Name \d: #REF!
Name \i: #REF!
Name \p: #REF!
Name \s: #REF!
Name \w: #REF!
Name \x: #REF!
Name \z: #REF!
Name ___________XP231: #REF!
Name ___XP231: #REF!
Name __xlfn_AGGREGATE: #N/A
Name __XP231: #REF!
Name _gat6: #REF!
Name _R: #REF!
Name _shs007: '[2]ANALISIS DE PRECIOS UNITARIOS'!#REF!
Name _XP231: #REF!
Name A: #REF!
Name A_IMPRESIÓN_IM: #REF!
Name A89.26: '[3]APU''s'!#REF!
Name accesorios: #REF!
Name ALBAÑILERÍA: #REF!
Name AREA: #REF!
Name Área_de_impressão1: #REF!
Name Área_de_impressão2: #REF!
Name Armico: #REF!
Name ASPERSION_1.1: #REF!
Name ASTM_1.2: #REF!
Name ASTM_2.2: #REF!
Name B: #REF!
Name BASE: #REF!
Name basedetalle: OFFSET(#REF!,0,0,COUNT(OFFSET(#REF!,0,0,9999)),12)
Name baseequipos: OFFSET(#REF!,0,0,COUNT(OFFSET(#REF!,0,0,9999)),7)
Name basemano: OFFSET(#REF!,0,0,COUNT(OFFSET(#REF!,0,0,9999)),7)
Name BASEMATERIALES: OFFSET(#REF!,0,0,COUNT(OFFSET(#REF!,0,0,9999)),4)
Name basetransporte: OFFSET([4]Transporte!$A$1,0,0,COUNT(OFFSET([4]Transporte!$A$1,0,0,9999)),4)
Name bbb: #REF!
Name bbvfgty: #REF!
Name BuiltIn_Print_Area: #REF!
Name BuiltIn_Print_Area___0: #REF!
Name BuiltIn_Print_Area___0___0: #REF!
Name BuiltIn_Print_Area___0___0___0: #REF!
Name BuiltIn_Print_Area___0___0___0___0: #REF!
Name BuiltIn_Print_Area___0___0___0___0___0: #REF!
Name BuiltIn_Print_Area___0___0___0___1: #REF!
Name BuiltIn_Print_Area___0___0___0___10: #REF!
Name BuiltIn_Print_Area___0___0___0___12: #REF!
Name BuiltIn_Print_Area___0___0___0___2: #REF!
Name BuiltIn_Print_Area___0___0___0___3: #REF!
Name BuiltIn_Print_Area___0___0___0___7: #REF!
Name BuiltIn_Print_Area___0___0___0___9: #REF!
Name BuiltIn_Print_Area___0___0___1: #REF!
Name BuiltIn_Print_Area___0___0___10: #REF!
Name BuiltIn_Print_Area___0___0___12: #REF!
Name BuiltIn_Print_Area___0___0___2: #REF!
Name BuiltIn_Print_Area___0___0___3: #REF!
Name BuiltIn_Print_Area___0___0___6: #REF!
Name BuiltIn_Print_Area___0___0___7: #REF!
Name BuiltIn_Print_Area___0___0___9: #REF!

Sheet APUS2 (1001 - 1053)
B2: PROYECTO: | C2: ='[1]PRESUPUESTO REFERENCIAL'!$B$6 -> CONSTRUCCIÓN DEL MALECÓN EN LA PARROQUIA URBANA SATÉLITE LA AURORA
B3: DAULE - ECUADOR
C5: NOMBRE DEL PROPONENTE: | D5: GOBIERNO AUTÓNOMO DESCENTRALIZADO ILUSTRE MUNICIPALIDAD DE DAULE
C6: ENTIDAD DEL PROCEDIMIENTO: | D6: OBRAS PÚBLICAS - MUNICIPIO DE DAULE
B8: ANÁLISIS DE PRECIOS UNITARIOS
I9: (unidad/horas) | K9: DETERMINACION DEL VALOR AGREGADO ECUATORIANO (V.A.E.) DEL RUBRO
B10: RUBRO: | C10: =+'[1]PRESUPUESTO REFERENCIAL'!B1123 -> 1001 | E10: UNIDAD: | F10: =+'[1]PRESUPUESTO REFERENCIAL'!D1123 -> u | H10: RENDIM. R= | I10: 3.0001
B11: DETALLE: | C11: =+'[1]PRESUPUESTO REFERENCIAL'!C1123 -> TRANSFORMADOR 1F 10 KVA TIPO AUTO PROTEGIDO 7.9KV/120-240 V
B12: M.- EQUIPOS | K12: PESO RELATIVO ELEMENTO (%) | L12: CPC ELEMENTO | M12: NP/EP/ND | N12: VALOR AGREGADO ECUATORIANO - VAE (%) | O12: VAE (%) ELEMENTO
B13: DESCRIPCIÓN DE EQUIPO | E13: CANTIDAD | F13: TARIFA | G13: COSTO HORA | H13: RENDIMIENTO | I13: COSTO UNITARIO | P13: =ROW(A14)+65 -> 79
A14: E1 | B14: =INDEX([1]EQUIPOS!$A$3:$I$326,MATCH('APUS2 (1001 - 1053)'!A14,[1]EQUIPOS!$A$3:$A$326,0),2) -> HERRAMIENTA MENOR (5% MO) | F14: 0.05 | I14: =I43*5% -> 2.7030901 | K14: =((I14*100%)/$I$79) -> 0.0023033066 | L14: =INDEX([1]EQUIPOS!$A$3:$I$326,MATCH('APUS2 (1001 - 1053)'!A14,[1]EQUIPOS!$A$3:$A$326,0),6) -> 4292100117 | M14: =INDEX([1]EQUIPOS!$A$3:$I$326,MATCH('APUS2 (1001 - 1053)'!A14,[1]EQUIPOS!$A$3:$A$326,0),7) -> NP | N14: =INDEX([1]EQUIPOS!$A$3:$I$326,MATCH('APUS2 (1001 - 1053)'!A14,[1]EQUIPOS!$A$3:$A$326,0),8) -> 0 | O14: =INDEX([1]EQUIPOS!$A$3:$I$326,MATCH('APUS2 (1001 - 1053)'!A14,[1]EQUIPOS!$A$3:$A$326,0),9) -> 0 | P14: =+P13+1 -> 80 | Q14: =IF($A14=0," ",$P13) -> 79
A15: E36 | B15: =INDEX([1]EQUIPOS!$A$3:$I$326,MATCH('APUS2 (1001 - 1053)'!A15,[1]EQUIPOS!$A$3:$A$326,0),2) -> GRUA DE 20 Tn | E15: 1 | F15: =INDEX([1]EQUIPOS!$A$3:$I$326,MATCH('APUS2 (1001 - 1053)'!A15,[1]EQUIPOS!$A$3:$A$326,0),5) -> 45 | G15: =+E15*F15 -> 45 | H15: =I10 -> 3.0001 | I15: =G15*H15 -> 135.0045 | K15: =((I15*100%)/$I$79) -> 0.11503751 | L15: =INDEX([1]EQUIPOS!$A$3:$I$326,MATCH('APUS2 (1001 - 1053)'!A15,[1]EQUIPOS!$A$3:$A$326,0),6) -> 435300212 | M15: =INDEX([1]EQUIPOS!$A$3:$I$326,MATCH('APUS2 (1001 - 1053)'!A15,[1]EQUIPOS!$A$3:$A$326,0),7) -> NP | N15: =INDEX([1]EQUIPOS!$A$3:$I$326,MATCH('APUS2 (1001 - 1053)'!A15,[1]EQUIPOS!$A$3:$A$326,0),8) -> 0 | O15: =INDEX([1]EQUIPOS!$A$3:$I$326,MATCH('APUS2 (1001 - 1053)'!A15,[1]EQUIPOS!$A$3:$A$326,0),9) -> 0 | P15: =+P14+1 -> 81 | Q15: =+$Q14 -> 79
P16: =+P15+1 -> 82
P17: =+P16+1 -> 83
P18: =+P17+1 -> 84
P19: =+P18+1 -> 85
P20: =+P19+1 -> 86
P21: =+P20+1 -> 87
P22: =+P21+1 -> 88
P23: =+P22+1 -> 89
P24: =+P23+1 -> 90
P25: =+P24+1 -> 91
P26: =+P25+1 -> 92
H27: PARCIAL (M) = | I27: =SUM(I14:I26) -> 137.70759 | K27: =SUM(K14:K26) -> 0.11734082 | O27: =SUM(O14:O26) -> 0 | P27: =+P26+1 -> 93
B28: N.- MANO DE OBRA | K28: PESO RELATIVO ELEMENTO (%) | L28: CPC ELEMENTO | M28: NP/EP/ND | N28: VALOR AGREGADO ECUATORIANO - VAE (%) | O28: VAE (%) ELEMENTO | P28: =+P27+1 -> 94
B29: DESCRIPCIÓN DE MANO DE OBRA - (CATEG.) | E29: CANTIDAD | F29: JORNAL / H.R. | G29: COSTO HORA | H29: RENDIMIENTO | I29: COSTO UNITARIO | P29: =+P28+1 -> 95
A30: MO17 | B30: =INDEX([1]SUELDOS!$B$3:$O$294,MATCH('APUS2 (1001 - 1053)'!A30,[1]SUELDOS!$B$3:$B$294,0),2) -> ELECTRICISTA O INSTALADOR DE REVESTIMIENTO EN GENERAL | E30: 1 | F30: =INDEX([1]SUELDOS!$B$3:$O$294,MATCH('APUS2 (1001 - 1053)'!A30,[1]SUELDOS!$B$3:$B$294,0),10) -> 4.28 | G30: =+E30*F30 -> 4.28 | H30: =I10 -> 3.0001 | I30: =G30*H30 -> 12.840428 | K30: =((I30*100%)/$I$79) -> 0.010941345 | L30: =INDEX([1]SUELDOS!$B$3:$O$294,MATCH('APUS2 (1001 - 1053)'!A30,[1]SUELDOS!$B$3:$B$294,0),11) -> 546110012 | M30: =INDEX([1]SUELDOS!$B$3:$O$294,MATCH('APUS2 (1001 - 1053)'!A30,[1]SUELDOS!$B$3:$B$294,0),12) -> NP | N30: =INDEX([1]SUELDOS!$B$3:$O$294,MATCH('APUS2 (1001 - 1053)'!A30,[1]SUELDOS!$B$3:$B$294,0),13) -> 0 | O30: =INDEX([1]SUELDOS!$B$3:$O$294,MATCH('APUS2 (1001 - 1053)'!A30,[1]SUELDOS!$B$3:$B$294,0),14) -> 0 | P30: =+P29+1 -> 96 | Q30: =+Q14 -> 79
A31: MO33 | B31: =INDEX([1]SUELDOS!$B$3:$O$294,MATCH('APUS2 (1001 - 1053)'!A31,[1]SUELDOS!$B$3:$B$294,0),2) -> MAESTRO ELECTRICO/LINIERO/SUBESTACIONES | E31: 1 | F31: =INDEX([1]SUELDOS!$B$3:$O$294,MATCH('APUS2 (1001 - 1053)'!A31,[1]SUELDOS!$B$3:$B$294,0),10) -> 4.75 | G31: =+E31*F31 -> 4.75 | H31: =I10 -> 3.0001 | I31: =G31*H31 -> 14.250475 | K31: =((I31*100%)/$I$79) -> 0.012142848 | L31: =INDEX([1]SUELDOS!$B$3:$O$294,MATCH('APUS2 (1001 - 1053)'!A31,[1]SUELDOS!$B$3:$B$294,0),11) -> 851230012 | M31: =INDEX([1]SUELDOS!$B$3:$O$294,MATCH('APUS2 (1001 - 1053)'!A31,[1]SUELDOS!$B$3:$B$294,0),12) -> NP | N31: =INDEX([1]SUELDOS!$B$3:$O$294,MATCH('APUS2 (1001 - 1053)'!A31,[1]SUELDOS!$B$3:$B$294,0),13) -> 0 | O31: =INDEX([1]SUELDOS!$B$3:$O$294,MATCH('APUS2 (1001 - 1053)'!A31,[1]SUELDOS!$B$3:$B$294,0),14) -> 0 | P31: =+P30+1 -> 97
A32: MO37 | B32: =INDEX([1]SUELDOS!$B$3:$O$294,MATCH('APUS2 (1001 - 1053)'!A32,[1]SUELDOS!$B$3:$B$294,0),2) -> SUPERVISOR ELECTRICO GENERAL / SUPERVISOR SANITARIO GENERAL | E32: 1 | F32: =INDEX([1]SUELDOS!$B$3:$O$294,MATCH('APUS2 (1001 - 1053)'!A32,[1]SUELDOS!$B$3:$B$294,0),10) -> 4.76 | G32: =+E32*F32 -> 4.76 | H32: =I10 -> 3.0001 | I32: =G32*H32 -> 14.280476 | K32: =((I32*100%)/$I$79) -> 0.012168412 | L32: =INDEX([1]SUELDOS!$B$3:$O$294,MATCH('APUS2 (1001 - 1053)'!A32,[1]SUELDOS!$B$3:$B$294,0),11) -> 851230012 | M32: =INDEX([1]SUELDOS!$B$3:$O$294,MATCH('APUS2 (1001 - 1053)'!A32,[1]SUELDOS!$B$3:$B$294,0),12) -> NP | N32: =INDEX([1]SUELDOS!$B$3:$O$294,MATCH('APUS2 (1001 - 1053)'!A32,[1]SUELDOS!$B$3:$B$294,0),13) -> 0 | O32: =INDEX([1]SUELDOS!$B$3:$O$294,MATCH('APUS2 (1001 - 1053)'!A32,[1]SUELDOS!$B$3:$B$294,0),14) -> 0 | P32: =+P31+1 -> 98
A33: MO1 | B33: =INDEX([1]SUELDOS!$B$3:$O$294,MATCH('APUS2 (1001 - 1053)'!A33,[1]SUELDOS!$B$3:$B$294,0),2) -> PEON | E33: 1 | F33: =INDEX([1]SUELDOS!$B$3:$O$294,MATCH('APUS2 (1001 - 1053)'!A33,[1]SUELDOS!$B$3:$B$294,0),10) -> 4.23 | G33: =+E33*F33 -> 4.23 | H33: =I10 -> 3.0001 | I33: =G33*H33 -> 12.690423 | K33: =((I33*100%)/$I$79) -> 0.010813526 | L33: =INDEX([1]SUELDOS!$B$3:$O$294,MATCH('APUS2 (1001 - 1053)'!A33,[1]SUELDOS!$B$3:$B$294,0),11) -> 851230012 | M33: =INDEX([1]SUELDOS!$B$3:$O$294,MATCH('APUS2 (1001 - 1053)'!A33,[1]SUELDOS!$B$3:$B$294,0),12) -> NP | N33: =INDEX([1]SUELDOS!$B$3:$O$294,MATCH('APUS2 (1001 - 1053)'!A33,[1]SUELDOS!$B$3:$B$294,0),13) -> 0 | O33: =INDEX([1]SUELDOS!$B$3:$O$294,MATCH('APUS2 (1001 - 1053)'!A33,[1]SUELDOS!$B$3:$B$294,0),14) -> 0 | P33: =+P32+1 -> 99
P34: =+P33+1 -> 100
P35: =+P34+1 -> 101
P36: =+P35+1 -> 102
P37: =+P36+1 -> 103
P38: =+P37+1 -> 104
P39: =+P38+1 -> 105
P40: =+P39+1 -> 106
P41: =+P40+1 -> 107
P42: =+P41+1 -> 108
H43: PARCIAL (N) = | I43: =SUM(I30:I42) -> 54.061802 | K43: =SUM(K30:K42) -> 0.046066132 | O43: =SUM(O30:O42) -> 0 | P43: =+P42+1 -> 109
...
